Workbook
Name AppSecRVA: 'App&Infra (simple)'!$B$12
Name FS: 'App&Infra (simple)'!$B$11
Name Infra: 'App&Infra (simple)'!$B$12

Sheet Summary
A1: Category | B1: Capability | C1: Estimated Annual Usage | D1: Estimated license cost | E1: Rate card
A2: Application and Infra Observability | B2: Full-Stack Monitoring | C2: ='App&Infra (simple)'!B11+'Kubernetes Monitoring'!B16 -> 0 | D2: =C2*E2 -> 0 | E2: 0.0092
B3: Infrastructure Monitoring (OS Services) | C3: ='App&Infra (simple)'!B12 -> 8760 | D3: =C3*E3 -> 323.244 | E3: 0.0369
A4: Container Observability | B4: Kubernetes Platform Monitoring | C4: ='Kubernetes Monitoring'!B15 -> 0 | D4: =C4*E4 -> 0 | E4: 0.0018
B5: Code Monitoring | C5: ='Kubernetes Monitoring'!B18 -> 0 | D5: =C5*E5 -> 0 | E5: 0.0046
A6: Application Security Protection | B6: Runtime Vulnerability Analytics | C6: ='App&Infra (simple)'!B13+'Kubernetes Monitoring'!B17 -> 0 | D6: =C6*E6 -> 0 | E6: 0.0021
A7: Real User and Synthetic Monitoring | B7: Real User Monitoring | C7: ='Digital Experience'!B19 -> 0 | D7: =C7*E7 -> 0 | E7: 0.0063
B8: Synthetic Monitor (Browser Monitor / Clickpath) | C8: ='Digital Experience'!B8 -> 0 | D8: =C8*E8 -> 0 | E8: 0.00415
B9: HTTP Monitor | C9: ='Digital Experience'!B14 -> 0 | D9: =C9*E9 -> 0 | E9: 0.0009
A10: Telemetry_x000B_Metrics (Grail) | B10: Metrics - Ingest & Process | C10: ='Telemetry - metrics'!B3 -> 0 | D10: =C10*E10/100000 -> 0 | E10: 0.1384
A11: Logs powered by Grail | B11: Log Management & Analytics - Ingest & Process | C11: ='Log Analytics'!B6 -> 0 | D11: =C11*E11 -> 0 | E11: 0.1846
B12: Log Management & Analytics - Retain | C12: ='Log Analytics'!B7 -> 0 | D12: =C12*E12 -> 0 | E12: 0.00064
B13: Log Management & Analytics - Query | C13: ='Log Analytics'!B8 -> 0 | D13: =C13*E13 -> 0 | E13: 0.00323
B14: Total SGD | D14: =SUM(D2:D13) -> 323.244
A16: Note
A17: Information is just for estimate only
A18: All cost estimates will be validated against an official pricing list
A19: In the event of any discrepancies, GovTech's validation will be the final version

Sheet App&Infra (simple)
A1: Application and Infrastructure observability: Full Stack Monitoring, Infrastructure Monitoring
A3: Simple estimate | C3: Unit | D3: Comment
A4: No. of hosts on Full Stack mode | B4: 1 | C4: instances
A5: No. of hosts on Infra mode | B5: 1 | C5: instances
A6: Avg. memory size of each host for the above | C6: GiB | D6: (minimum 4 GiB in size)
A7: Application Security Runtime Vulnerability Analytics | B7: FALSE
A10: Estimated license usage for 1 year
A11: Full Stack consumption | B11: =IF(AND(B4>0,B6>=4),B4*B6*24*365,0) -> 0 | C11: Memory-GiB-hours
A12: Infra mode consumption | B12: =IF(B5>0,B5*24*365,0) -> 8760 | C12: Host-hours
A13: AppSec RVA consumption | B13: =IF(B7=TRUE,(B4+B5)*B6*24*365,0) -> 0 | C13: Memory-GiB-hours

Sheet App&Infra (detailed)
A1: Application and Infrastructure observability: Full Stack Monitoring, Infrastructure Monitoring
A3: Estimated annual usage: | D3: Per year
A4: Full stack monitoring: | D4: Memory-GiB-hours
A5: Infrastructure monitoring: | D5: Host-hours
A6: AppSec Runtime Vulnerability Analytics: | B6: FALSE | D6: Memory-GiB-hours
A8: Detailed estimate
A9: Server name | B9: Memory (GiB) | C9: Server Qty | D9: Monitoring mode | E9: Calc (hidden) | F9: Mode (hidden)
A10: Ex. Web server | B10: 8 | C10: 6 | F10: Full Stack mode
A11: Ex. App server | B11: 15.4 | C11: 4 | F11: Infra mode
A12: Ex. DB Server | B12: 128 | C12: 2

Sheet Kubernetes Monitoring
A1: Kubernetes Monitoring
A3: Kubernetes platform monitoring (pod-hours) | C3: unit
A4: Average # of pods running per day | C4: pods
A5: Average lifetime of a pod in hours per day | C5: hours
A7: Container-deployed full-stack monitoring (app only mode) (GiB-hours) | C7: unit
A8: % of pods requiring code profiling and transaction tracing | B8: 0.5 | D8: default
A9: # of pods instrumented for tracing and profiling | B9: =B4*B8 -> 0 | D9: (calcuated from above, agency cannot change)
A10: Average amount of memory used per pod (in GB and .25 is the min) | C10: GB
A11: Include Application Security (optional) | B11: 1
A12: Include live debugging (code monitoring) (optional) | B12: 1
A14: Estimated license usage for 1 year
A15: Estimated # of pod-hours per year | B15: =B4*B5*365 -> 0 | C15: pod-hours
A16: Estimated # of full stack GiB-hours per year | B16: =B9*B10*B5*365 -> 0 | C16: memory-gibibyte-hours
A17: Estimated # of RVA (Runtime Vulnerability Analytics) GiB-hours per year | B17: =IF(B11,B16,0) -> 0 | C17: memory-gibibyte-hours
A18: Estimated # of container-hours per year for live debugging | B18: =IF(B12,B15,0) -> 0 | C18: container-hours

Sheet Digital Experience
A1: Digital Experience Monitoring: Real User Monitoring (RUM), Session Replay and Synthetic Monitoring
A3: Synthetic Browser Monitoring
A4: Number of test scripts:
A5: Average # of actions per test script:
A6: Frequency: # of executions per hour:
A7: Locations: executed from # of locations:
A8: Estimated synthetic monitoring per year | B8: =B4*B5*B6*B7*24*365 -> 0
A10: Synthetic HTTP Monitoring
A11: Number of different monitors (checks)
A12: Frequency: # of executions per hour:
A13: Locations: executed from # of locations:
A14: Estimated Synthetic HTTP Monitors per year | B14: =B11*B12*B13*24*365 -> 0
A16: Real User Monitoring
A17: Average # of real user sessions/visits per month (web)
A18: Average # of real user sessions/visits per month (mobile)
A19: Estimated RUM sessions per year | B19: =SUM(B17:B18)*12 -> 0

Sheet Log Analytics
A1: Log analytics
C2: unit
A3: Volume of logs sent to Dynatrace per day | C3: GiB
A4: Retention days | B4: 35 | C4: GiB-days | D4: (default: 35 days)
A6: Estimated - Ingest & Process license per year | B6: =B3*365 -> 0
A7: Estimated - Retain license per year | B7: =B3*B4*1.3*365 -> 0
A8: Estimated - Quey license per year | B8: =(B3*100.5/1.75)*365 -> 0
A9: * Assume query cost = ingest cost

Sheet Telemetry - metrics
A1: Metrics ingest
A3: Total metric data points per year | B3: =C8+C13+D25+D49 -> 0
A5: DB extension
A6: Microsoft SQL Server (MSSQL) | B6: Number of MSSQL Hosts
B7: Number of MSSQL instances | C7: 1 | D7: default
B8: # of custom metrics per year | C8: =((C6*1*8)+(C6*24))*60*24*365 -> 0
A10: Oracle DB | B10: Number of Oracle Hosts
B11: Number of WAIT events monitored | C11: 10 | D11: default
B12: Number of TABLESPACES monitored | C12: 10 | D12: default
B13: # of custom metrics per year | C13: =((C10*32)+(C10*C11*2)+(C10*C11*2))*60*24*365 -> 0
A15: AWS platform services | B15: # of metrics per instance | C15: # of Instances of the service | D15: # of custom metric data points for 1 year
A16: Relational Database (RDS) | B16: 14 | D16: =B16*C16*60*24*365 -> 0
A17: Lambda Functions | B17: 9 | D17: =B17*C17*60*24*365 -> 0
A18: API Gateway | B18: 13 | D18: =B18*C18*60*24*365 -> 0
A19: ECS ContainerInsights | B19: 88 | D19: =B19*C19*60*24*365 -> 0
A20: MQ | B20: 66 | D20: =B20*C20*60*24*365 -> 0
A21: Simple Storage Service (S3) | B21: 32 | D21: =B21*C21*60*24*365 -> 0
A22: Simple Email Service (SES) | B22: 12 | D22: =B22*C22*60*24*365 -> 0
A23: Simple Notification Service (SNS) | B23: 28 | D23: =B23*C23*60*24*365 -> 0
A24: Simple Queue Service (SQS) | B24: 18 | D24: =B24*C24*60*24*365 -> 0
B25: Total | D25: =SUM(D16:D24) -> 0
A27: Azure platform services | B27: # of metrics per instance | C27: # of Instances of the service | D27: # of custom metric data points for 1 year
A28: API Mgt Service | B28: 7 | D28: =B28*C28*60*24*365 -> 0
A29: App Gateway | B29: 7 | D29: =B29*C29*60*24*365 -> 0
A30: App Service | B30: 14 | D30: =B30*C30*60*24*365 -> 0
A31: Functions | B31: 12 | D31: =B31*C31*60*24*365 -> 0
A32: Cosmos | B32: 12 | D32: =B32*C32*60*24*365 -> 0
A33: Event Hub | B33: 16 | D33: =B33*C33*60*24*365 -> 0
A34: IoT Hub | B34: 25 | D34: =B34*C34*60*24*365 -> 0
A35: Load Balancer | B35: 12 | D35: =B35*C35*60*24*365 -> 0
A36: Redis | B36: 15 | D36: =B36*C36*60*24*365 -> 0
A37: Region | B37: 3 | D37: =B37*C37*60*24*365 -> 0
A38: Service Bus Namespace | B38: 15 | D38: =B38*C38*60*24*365 -> 0
A39: Service Bus Queue | B39: 12 | D39: =B39*C39*60*24*365 -> 0
... A48: Scale Sets | B48: 10 | D48: =B48*C48*60*24*365 -> 0
B49: Total | D49: =SUM(D28:D48) -> 0
